BEGIN:VCALENDAR
VERSION:2.0
PRODID:-//Staking University - ECPv6.15.20//NONSGML v1.0//EN
CALSCALE:GREGORIAN
METHOD:PUBLISH
X-ORIGINAL-URL:https://www.stakinguniversity.com
X-WR-CALDESC:Events for Staking University
REFRESH-INTERVAL;VALUE=DURATION:PT1H
X-Robots-Tag:noindex
X-PUBLISHED-TTL:PT1H
BEGIN:VTIMEZONE
TZID:America/Chicago
BEGIN:DAYLIGHT
TZOFFSETFROM:-0600
TZOFFSETTO:-0500
TZNAME:CDT
DTSTART:20240310T080000
END:DAYLIGHT
BEGIN:STANDARD
TZOFFSETFROM:-0500
TZOFFSETTO:-0600
TZNAME:CST
DTSTART:20241103T070000
END:STANDARD
BEGIN:DAYLIGHT
TZOFFSETFROM:-0600
TZOFFSETTO:-0500
TZNAME:CDT
DTSTART:20250309T080000
END:DAYLIGHT
BEGIN:STANDARD
TZOFFSETFROM:-0500
TZOFFSETTO:-0600
TZNAME:CST
DTSTART:20251102T070000
END:STANDARD
BEGIN:DAYLIGHT
TZOFFSETFROM:-0600
TZOFFSETTO:-0500
TZNAME:CDT
DTSTART:20260308T080000
END:DAYLIGHT
BEGIN:STANDARD
TZOFFSETFROM:-0500
TZOFFSETTO:-0600
TZNAME:CST
DTSTART:20261101T070000
END:STANDARD
END:VTIMEZONE
BEGIN:VEVENT
DTSTART;TZID=America/Chicago:20250501T073000
DTEND;TZID=America/Chicago:20250501T153000
DTSTAMP:20260420T102316
CREATED:20250429T191312Z
LAST-MODIFIED:20250508T190655Z
UID:10000495-1746084600-1746113400@www.stakinguniversity.com
SUMMARY:1 Day Locating Seminar - Dixon\, IL
DESCRIPTION:Locator Seminars \nStaking University’s Locator Seminars are designed to aid locators in developing: \n\nsuperior troubleshooting techniques\nskills to consistently provide accurate and complete utility location information\na mastery of locating equipment\n\nThe Locator Seminar includes classroom learning and outdoor presentations \nLCS Outline Class Syllabus \n\n*CREDIT CARD PAYMENTS ONLY *\nYOU WILL ONLY BE REGISTERED FOR THIS CLASS IF YOU USE A CREDIT CARD FOR THIS ORDER\nMay 13th\, 2025 \nHost Location:\nIDOT\n2703 West Fourth St.\nDixon\, IL 61021\nClasses: 7:30 AM-3:30 PM\nCost: $25 per person \n*CREDIT CARD PAYMENTS ONLY *\n\nWAYS TO REGISTER: \n\nONLINE\n*CREDIT CARD PAYMENTS ONLY *\n\n\nCancellation Policy for Courses\nCancellation up to 2 weeks before the first day of class\, 85% refund. Within 2 weeks to 3 days of class\, a 50% refund. Within 72 hrs.\, no refund. At any time\, you may choose to reschedule and apply full funds to a future class.
URL:https://www.stakinguniversity.com/class/1-day-locating-seminar-dixon-il/
LOCATION:IDOT\, 2703 W. Fourth St.\, Dixon\, IL\, 61021\, United States
ATTACH;FMTTYPE=image/jpeg:https://www.stakinguniversity.com/wp-content/uploads/2022/11/20221102_131157-scaled.jpg
GEO:41.831468;-89.512756
X-APPLE-STRUCTURED-LOCATION;VALUE=URI;X-ADDRESS=IDOT 2703 W. Fourth St. Dixon IL 61021 United States;X-APPLE-RADIUS=500;X-TITLE=2703 W. Fourth St.:geo:-89.512756,41.831468
END:VEVENT
END:VCALENDAR