BEGIN:VCALENDAR
VERSION:2.0
PRODID:-//Staking University - ECPv6.15.20//NONSGML v1.0//EN
CALSCALE:GREGORIAN
METHOD:PUBLISH
X-ORIGINAL-URL:https://www.stakinguniversity.com
X-WR-CALDESC:Events for Staking University
REFRESH-INTERVAL;VALUE=DURATION:PT1H
X-Robots-Tag:noindex
X-PUBLISHED-TTL:PT1H
BEGIN:VTIMEZONE
TZID:America/Chicago
BEGIN:DAYLIGHT
TZOFFSETFROM:-0600
TZOFFSETTO:-0500
TZNAME:CDT
DTSTART:20210314T080000
END:DAYLIGHT
BEGIN:STANDARD
TZOFFSETFROM:-0500
TZOFFSETTO:-0600
TZNAME:CST
DTSTART:20211107T070000
END:STANDARD
BEGIN:DAYLIGHT
TZOFFSETFROM:-0600
TZOFFSETTO:-0500
TZNAME:CDT
DTSTART:20220313T080000
END:DAYLIGHT
BEGIN:STANDARD
TZOFFSETFROM:-0500
TZOFFSETTO:-0600
TZNAME:CST
DTSTART:20221106T070000
END:STANDARD
BEGIN:DAYLIGHT
TZOFFSETFROM:-0600
TZOFFSETTO:-0500
TZNAME:CDT
DTSTART:20230312T080000
END:DAYLIGHT
BEGIN:STANDARD
TZOFFSETFROM:-0500
TZOFFSETTO:-0600
TZNAME:CST
DTSTART:20231105T070000
END:STANDARD
END:VTIMEZONE
BEGIN:VEVENT
DTSTART;TZID=America/Chicago:20221005T083000
DTEND;TZID=America/Chicago:20221007T163000
DTSTAMP:20260423T043622
CREATED:20210116T203406Z
LAST-MODIFIED:20220826T185621Z
UID:10000078-1664958600-1665160200@www.stakinguniversity.com
SUMMARY:1 Day Locating Seminars - Georgia 811 Summit
DESCRIPTION:Locator Seminars \nStaking University’s Locator Seminars are designed to aid locators in developing: \n\nsuperior troubleshooting techniques\nskills to consistently provide accurate and complete utility location information\na mastery of locating equipment\n\nThe Locator Seminar includes classroom learning and outdoor presentations \nLCS Outline Class Syllabus \n\nHost Location:\nGeorgia 811 \n3400 Summit Ridge Pkwy \nDuluth\, GA 30096 \nTWO Separate 1-Day Classes  \nPick specific date below when ordering tickets \nOctober 5th\, 2022 \nOctober 7th\, 2022 \nClasses: 8:30 AM-4:30 PM\nCost: $250 per person \n\nWAYS TO REGISTER: \n\nONLINE\nPHONE 815-468-7814\n\n\nCancellation Policy for Courses\nCancellation up to 2 weeks before the first day of class\, 85% refund. Within 2 weeks to 3 days of class\, a 50% refund. Within 72 hrs.\, no refund. At any time\, you may choose to reschedule and apply full funds to a future class.
URL:https://www.stakinguniversity.com/class/georgia811-oct-5-7/
LOCATION:Georgia 811\, 3400 Summit Ridge Pkwy\, Duluth\, GA\, 30096
CATEGORIES:2 Day LCS
ATTACH;FMTTYPE=image/jpeg:https://www.stakinguniversity.com/wp-content/uploads/2014/12/Manteno-5-day-9-e1418759746633.jpg
GEO:33.9873987;-84.1664706
X-APPLE-STRUCTURED-LOCATION;VALUE=URI;X-ADDRESS=Georgia 811 3400 Summit Ridge Pkwy Duluth GA 30096;X-APPLE-RADIUS=500;X-TITLE=3400 Summit Ridge Pkwy:geo:-84.1664706,33.9873987
END:VEVENT
END:VCALENDAR