BEGIN:VCALENDAR
VERSION:2.0
PRODID:-//Staking University - ECPv6.15.20//NONSGML v1.0//EN
CALSCALE:GREGORIAN
METHOD:PUBLISH
X-ORIGINAL-URL:https://www.stakinguniversity.com
X-WR-CALDESC:Events for Staking University
REFRESH-INTERVAL;VALUE=DURATION:PT1H
X-Robots-Tag:noindex
X-PUBLISHED-TTL:PT1H
BEGIN:VTIMEZONE
TZID:America/Chicago
BEGIN:DAYLIGHT
TZOFFSETFROM:-0600
TZOFFSETTO:-0500
TZNAME:CDT
DTSTART:20180311T080000
END:DAYLIGHT
BEGIN:STANDARD
TZOFFSETFROM:-0500
TZOFFSETTO:-0600
TZNAME:CST
DTSTART:20181104T070000
END:STANDARD
BEGIN:DAYLIGHT
TZOFFSETFROM:-0600
TZOFFSETTO:-0500
TZNAME:CDT
DTSTART:20190310T080000
END:DAYLIGHT
BEGIN:STANDARD
TZOFFSETFROM:-0500
TZOFFSETTO:-0600
TZNAME:CST
DTSTART:20191103T070000
END:STANDARD
BEGIN:DAYLIGHT
TZOFFSETFROM:-0600
TZOFFSETTO:-0500
TZNAME:CDT
DTSTART:20200308T080000
END:DAYLIGHT
BEGIN:STANDARD
TZOFFSETFROM:-0500
TZOFFSETTO:-0600
TZNAME:CST
DTSTART:20201101T070000
END:STANDARD
END:VTIMEZONE
BEGIN:VEVENT
DTSTART;TZID=America/Chicago:20190711T083000
DTEND;TZID=America/Chicago:20190712T163000
DTSTAMP:20260423T075218
CREATED:20190318T193406Z
LAST-MODIFIED:20190516T140028Z
UID:10000128-1562833800-1562949000@www.stakinguniversity.com
SUMMARY:2 Day LCS – Nashville\, TN
DESCRIPTION:Locator Certification Seminars \nStaking U’s Locator Certification Seminars (LCS) are designed to aid locators in developing: \n\nsuperior troubleshooting techniques\nskills to consistently provide accurate and complete utility location information\na mastery of locating equipment\nskills required to pass Staking U’s locator certification test\n\nThe Locator Certification Seminar includes classroom learning and outdoor presentations. An opportunity to take Staking U’s written certification test is available at the end of class. \nLCS Outline Class Syllabus \n\nHost Location:\nTracer Electronics \n6981 Eastgate Blvd \nLebanon\, TN.  37090 \nJuly 11-12\, 2019 \nClass: 8:30 AM-4:30 PM\nCost: $695 per person \n\nWAYS TO REGISTER: \n\nONLINE\nPHONE 815-468-7814\n\n\nCancellation Policy for Courses\nCancellation up to 2 weeks before the first day of class\, 85% refund. Within 2 weeks to 3 days of class\, a 50% refund. Within 72 hrs.\, no refund. At any time\, you may choose to reschedule and apply full funds to a future class.
URL:https://www.stakinguniversity.com/class/2-day-lcs-nashville-tn-2019-09-17-2/
LOCATION:Tracer Electronics\, 6981 Eastgate Blvd\, Lebanon\, TN\, 37090\, United States
CATEGORIES:2 Day LCS
ATTACH;FMTTYPE=image/jpeg:https://www.stakinguniversity.com/wp-content/uploads/2015/02/Houston-LCS.jpg
GEO:36.1870273;-86.4179361
X-APPLE-STRUCTURED-LOCATION;VALUE=URI;X-ADDRESS=Tracer Electronics 6981 Eastgate Blvd Lebanon TN 37090 United States;X-APPLE-RADIUS=500;X-TITLE=6981 Eastgate Blvd:geo:-86.4179361,36.1870273
END:VEVENT
BEGIN:VEVENT
DTSTART;TZID=America/Chicago:20190708T083000
DTEND;TZID=America/Chicago:20190712T163000
DTSTAMP:20260423T075218
CREATED:20190419T235006Z
LAST-MODIFIED:20190515T213046Z
UID:10000200-1562574600-1562949000@www.stakinguniversity.com
SUMMARY:5 Day Campus Class – Manteno\, IL
DESCRIPTION:Staking University Five Day Flagship Campus Training \nStaking University classes are taught at a live cityscape environment\, with both live and abandoned utilities. \nThe setting provides nearly 20 blocks of live utilities for hands-on locating in addition to specially-constructed training scenarios. \nStaking U’s week-long class is a combination of classroom and practical training outside. About 60-70% of class time is spent outdoors\, putting locating theory into practice. \n\nCLASS INFORMATION: \nJuly 8th – 12th\, 2019 \nStaking University’s Flagship Campus\n411 S. Evergreen St.\nManteno\, IL 60950 \nMAP AND HOTEL INFO \n\nWAYS TO REGISTER: \n\nONLINE\nPHONE 815-468-7814\n\n\nCancellation Policy for Courses\nCancellation up to 2 weeks before the first day of class\, 85% refund. Within 2 weeks to 3 days of class\, a 50% refund. Within 72 hrs.\, no refund. At any time\, you may choose to reschedule and apply full funds to a future class.
URL:https://www.stakinguniversity.com/class/5-day-campus-class-manteno-il-6/
LOCATION:Staking University\, 411 S. Evergreen St.\, Manteno\, IL\, 60950\, United States
CATEGORIES:5 Day Main Campus Classes
GEO:41.230347;-87.807713
X-APPLE-STRUCTURED-LOCATION;VALUE=URI;X-ADDRESS=Staking University 411 S. Evergreen St. Manteno IL 60950 United States;X-APPLE-RADIUS=500;X-TITLE=411 S. Evergreen St.:geo:-87.807713,41.230347
END:VEVENT
BEGIN:VEVENT
DTSTART;TZID=America/Chicago:20190617T083000
DTEND;TZID=America/Chicago:20190621T163000
DTSTAMP:20260423T075218
CREATED:20190419T235006Z
LAST-MODIFIED:20190515T210909Z
UID:10000201-1560760200-1561134600@www.stakinguniversity.com
SUMMARY:5 Day Campus Class – Manteno\, IL
DESCRIPTION:Staking University Five Day Flagship Campus Training \nStaking University classes are taught at a live cityscape environment\, with both live and abandoned utilities. \nThe setting provides nearly 20 blocks of live utilities for hands-on locating in addition to specially-constructed training scenarios. \nStaking U’s week-long class is a combination of classroom and practical training outside. About 60-70% of class time is spent outdoors\, putting locating theory into practice. \n\nCLASS INFORMATION: \nJune 17th – 21st\, 2019 \nStaking University’s Flagship Campus\n411 S. Evergreen St.\nManteno\, IL 60950 \nMAP AND HOTEL INFO \n\nWAYS TO REGISTER: \n\nONLINE\nPHONE 815-468-7814\n\n\nCancellation Policy for Courses\nCancellation up to 2 weeks before the first day of class\, 85% refund. Within 2 weeks to 3 days of class\, a 50% refund. Within 72 hrs.\, no refund. At any time\, you may choose to reschedule and apply full funds to a future class.
URL:https://www.stakinguniversity.com/class/5-day-campus-class-manteno-il-5/
LOCATION:Staking University\, 411 S. Evergreen St.\, Manteno\, IL\, 60950\, United States
CATEGORIES:5 Day Main Campus Classes
ATTACH;FMTTYPE=image/jpeg:https://www.stakinguniversity.com/wp-content/uploads/2017/09/20160516_140108.jpg
GEO:41.230347;-87.807713
X-APPLE-STRUCTURED-LOCATION;VALUE=URI;X-ADDRESS=Staking University 411 S. Evergreen St. Manteno IL 60950 United States;X-APPLE-RADIUS=500;X-TITLE=411 S. Evergreen St.:geo:-87.807713,41.230347
END:VEVENT
BEGIN:VEVENT
DTSTART;TZID=America/Chicago:20190610T083000
DTEND;TZID=America/Chicago:20190611T163000
DTSTAMP:20260423T075218
CREATED:20190318T193406Z
LAST-MODIFIED:20190621T210704Z
UID:10000117-1560155400-1560270600@www.stakinguniversity.com
SUMMARY:2 Day LCS – Tempe\, AZ
DESCRIPTION:Locator Certification Seminars \nStaking U’s Locator Certification Seminars (LCS) are designed to aid locators in developing: \n\nsuperior troubleshooting techniques\nskills to consistently provide accurate and complete utility location information\na mastery of locating equipment\nskills required to pass Staking U’s locator certification test\n\nThe Locator Certification Seminar includes classroom learning and outdoor presentations. An opportunity to take Staking U’s written certification test is available at the end of class. \nLCS Outline Class Syllabus \n\nHost Location:\nArizona 811\n1405 West Auto Drive\nTempe AZ\, 85284 \nJune 10 – 11\, 2019 \nClass: 8:30 AM-4:30 PM\nCost: $695 per person \n\nWAYS TO REGISTER: \n\nONLINE\nPHONE 815-468-7814\n\n\nCancellation Policy for Courses\nCancellation up to 2 weeks before the first day of class\, 85% refund. Within 2 weeks to 3 days of class\, a 50% refund. Within 72 hrs.\, no refund. At any time\, you may choose to reschedule and apply full funds to a future class.
URL:https://www.stakinguniversity.com/class/2-day-lcs-tempe-az-2019-06-10/
LOCATION:Arizona 811\, 1405 West Auto Drive\, Tempe\, AZ\, 85284\, United States
ATTACH;FMTTYPE=image/jpeg:https://www.stakinguniversity.com/wp-content/uploads/2015/06/IMG_0065-e1428209420877.jpg
GEO:33.3422158;-111.9607727
X-APPLE-STRUCTURED-LOCATION;VALUE=URI;X-ADDRESS=Arizona 811 1405 West Auto Drive Tempe AZ 85284 United States;X-APPLE-RADIUS=500;X-TITLE=1405 West Auto Drive:geo:-111.9607727,33.3422158
END:VEVENT
BEGIN:VEVENT
DTSTART;TZID=America/Chicago:20190603T083000
DTEND;TZID=America/Chicago:20190607T163000
DTSTAMP:20260423T075218
CREATED:20190419T235006Z
LAST-MODIFIED:20190515T211246Z
UID:10000196-1559550600-1559925000@www.stakinguniversity.com
SUMMARY:5 Day Campus Class – Manteno\, IL
DESCRIPTION:Staking University Five Day Flagship Campus Training \nStaking University classes are taught at a live cityscape environment\, with both live and abandoned utilities. \nThe setting provides nearly 20 blocks of live utilities for hands-on locating in addition to specially-constructed training scenarios. \nStaking U’s week-long class is a combination of classroom and practical training outside. About 60-70% of class time is spent outdoors\, putting locating theory into practice. \n\nCLASS INFORMATION: \nJune 3rd – 7th\, 2019 \nStaking University’s Flagship Campus\n411 S. Evergreen St.\nManteno\, IL 60950 \nMAP AND HOTEL INFO \n\nWAYS TO REGISTER: \n\nONLINE\nPHONE 815-468-7814\n\n\nCancellation Policy for Courses\nCancellation up to 2 weeks before the first day of class\, 85% refund. Within 2 weeks to 3 days of class\, a 50% refund. Within 72 hrs.\, no refund. At any time\, you may choose to reschedule and apply full funds to a future class.
URL:https://www.stakinguniversity.com/class/5-day-campus-class-manteno-il-4/
LOCATION:Staking University\, 411 S. Evergreen St.\, Manteno\, IL\, 60950\, United States
CATEGORIES:5 Day Main Campus Classes
ATTACH;FMTTYPE=image/jpeg:https://www.stakinguniversity.com/wp-content/uploads/2014/12/LCS-in-Manteno-2.jpg
GEO:41.230347;-87.807713
X-APPLE-STRUCTURED-LOCATION;VALUE=URI;X-ADDRESS=Staking University 411 S. Evergreen St. Manteno IL 60950 United States;X-APPLE-RADIUS=500;X-TITLE=411 S. Evergreen St.:geo:-87.807713,41.230347
END:VEVENT
BEGIN:VEVENT
DTSTART;TZID=America/Chicago:20190530T083000
DTEND;TZID=America/Chicago:20190531T163000
DTSTAMP:20260423T075218
CREATED:20190318T193406Z
LAST-MODIFIED:20190515T211117Z
UID:10000152-1559205000-1559320200@www.stakinguniversity.com
SUMMARY:2 Day LCS – Manteno\, IL
DESCRIPTION:Locator Certification Seminars \nStaking U’s Locator Certification Seminars (LCS) are designed to aid locators in developing: \n\nsuperior troubleshooting techniques\nskills to consistently provide accurate and complete utility location information\na mastery of locating equipment\nskills required to pass Staking U’s locator certification test\n\nThe Locator Certification Seminar includes classroom learning and outdoor presentations. An opportunity to take Staking U’s written certification test is available at the end of class. \nLCS Outline Class Syllabus \n\nHost Location:\nStaking University\n411 South Evergreen\nManteno\, IL 60950 \nMay 30 – 31\, 2019 \nRegistration: 8:00 AM\nClass: 8:30 AM-4:00 PM\nCost: $695 per person \n\nWAYS TO REGISTER: \n\nONLINE\nPHONE 815-468-7814\n\n\nCancellation Policy for Courses\nCancellation up to 2 weeks before the first day of class\, 85% refund. Within 2 weeks to 3 days of class\, a 50% refund. Within 72 hrs.\, no refund. At any time\, you may choose to reschedule and apply full funds to a future class.
URL:https://www.stakinguniversity.com/class/2-day-lcs-manteno-il-2019-05-30/
LOCATION:Staking University\, 411 S. Evergreen St.\, Manteno\, IL\, 60950\, United States
CATEGORIES:2 Day LCS
ATTACH;FMTTYPE=image/jpeg:https://www.stakinguniversity.com/wp-content/uploads/2017/09/26-30.2.jpg
GEO:41.230347;-87.807713
X-APPLE-STRUCTURED-LOCATION;VALUE=URI;X-ADDRESS=Staking University 411 S. Evergreen St. Manteno IL 60950 United States;X-APPLE-RADIUS=500;X-TITLE=411 S. Evergreen St.:geo:-87.807713,41.230347
END:VEVENT
BEGIN:VEVENT
DTSTART;TZID=America/Chicago:20190521T083000
DTEND;TZID=America/Chicago:20190522T163000
DTSTAMP:20260423T075218
CREATED:20190318T193406Z
LAST-MODIFIED:20190515T211035Z
UID:10000120-1558427400-1558542600@www.stakinguniversity.com
SUMMARY:2 Day LCS – Boulder\, CO - SOLD OUT!!
DESCRIPTION:THE BOULDER LCS CLASS ON MAY 21-22 IS NOW SOLD OUT! \nOur next class in Boulder will be on September 12-13\, 2019\, register here today! \nLocator Certification Seminars \nStaking U’s Locator Certification Seminars (LCS) are designed to aid locators in developing: \n\nsuperior troubleshooting techniques\nskills to consistently provide accurate and complete utility location information\na mastery of locating equipment\nskills required to pass Staking U’s locator certification test\n\nThe Locator Certification Seminar includes classroom learning and outdoor presentations. An opportunity to take Staking U’s written certification test is available at the end of class. \nLCS Outline Class Syllabus \n\nHost Location:\nCity of Boulder Municipal Service Center\n5050 Pearl St.\nBoulder\, CO 80301 \nMay 21 – 22\, 2019 \nRegistration: 8:00 AM\nClass: 8:30 AM-4:00 PM\nCost: $695 per person \n\nWAYS TO REGISTER: \n\nONLINE\nPHONE 815-468-7814\n\n\nCancellation Policy for Courses\nCancellation up to 2 weeks before the first day of class\, 85% refund. Within 2 weeks to 3 days of class\, a 50% refund. Within 72 hrs.\, no refund. At any time\, you may choose to reschedule and apply full funds to a future class.
URL:https://www.stakinguniversity.com/class/2-day-lcs-boulder-co-2019-05-21/
LOCATION:City of Boulder Municipal Service Center\, 5050 Pearl St.\, Boulder\, CO\, 80301\, United States
CATEGORIES:2 Day LCS
ATTACH;FMTTYPE=image/jpeg:https://www.stakinguniversity.com/wp-content/uploads/2014/03/2-day-38.jpg
GEO:40.0252237;-105.2354407
X-APPLE-STRUCTURED-LOCATION;VALUE=URI;X-ADDRESS=City of Boulder Municipal Service Center 5050 Pearl St. Boulder CO 80301 United States;X-APPLE-RADIUS=500;X-TITLE=5050 Pearl St.:geo:-105.2354407,40.0252237
END:VEVENT
BEGIN:VEVENT
DTSTART;TZID=America/Chicago:20190520T083000
DTEND;TZID=America/Chicago:20190524T163000
DTSTAMP:20260423T075218
CREATED:20190419T235006Z
LAST-MODIFIED:20190515T211213Z
UID:10000195-1558341000-1558715400@www.stakinguniversity.com
SUMMARY:5 Day Campus Class – Manteno\, IL
DESCRIPTION:Staking University Five Day Flagship Campus Training \nStaking University classes are taught at a live cityscape environment\, with both live and abandoned utilities. \nThe setting provides nearly 20 blocks of live utilities for hands-on locating in addition to specially-constructed training scenarios. \nStaking U’s week-long class is a combination of classroom and practical training outside. About 60-70% of class time is spent outdoors\, putting locating theory into practice. \n\nCLASS INFORMATION: \nMay 20th – 24th\, 2019 \nStaking University’s Flagship Campus\n411 S. Evergreen St.\nManteno\, IL 60950 \nMAP AND HOTEL INFO \n\nWAYS TO REGISTER: \n\nONLINE\nPHONE 815-468-7814\n\n\nCancellation Policy for Courses\nCancellation up to 2 weeks before the first day of class\, 85% refund. Within 2 weeks to 3 days of class\, a 50% refund. Within 72 hrs.\, no refund. At any time\, you may choose to reschedule and apply full funds to a future class.
URL:https://www.stakinguniversity.com/class/5-day-campus-class-manteno-il-3/
LOCATION:Staking University\, 411 S. Evergreen St.\, Manteno\, IL\, 60950\, United States
CATEGORIES:5 Day Main Campus Classes
ATTACH;FMTTYPE=image/jpeg:https://www.stakinguniversity.com/wp-content/uploads/2014/03/5-day-10.jpg
GEO:41.230347;-87.807713
X-APPLE-STRUCTURED-LOCATION;VALUE=URI;X-ADDRESS=Staking University 411 S. Evergreen St. Manteno IL 60950 United States;X-APPLE-RADIUS=500;X-TITLE=411 S. Evergreen St.:geo:-87.807713,41.230347
END:VEVENT
BEGIN:VEVENT
DTSTART;TZID=America/Chicago:20190515T083000
DTEND;TZID=America/Chicago:20190516T163000
DTSTAMP:20260423T075218
CREATED:20190318T193406Z
LAST-MODIFIED:20190515T214839Z
UID:10000119-1557909000-1558024200@www.stakinguniversity.com
SUMMARY:2 Day LCS – Billings\, MT
DESCRIPTION:Locator Certification Seminars \nStaking U’s Locator Certification Seminars (LCS) are designed to aid locators in developing: \n\nsuperior troubleshooting techniques\nskills to consistently provide accurate and complete utility location information\na mastery of locating equipment\nskills required to pass Staking U’s locator certification test\n\nThe Locator Certification Seminar includes classroom learning and outdoor presentations. An opportunity to take Staking U’s written certification test is available at the end of class. \nLCS Outline Class Syllabus \n\nHost Location:\nNorth Western Energy\n1944 Monad Rd.\nBillings\, MT 59102 \nMay 15 – 16\, 2019 \nRegistration: 8:00 AM\nClass: 8:30 AM-4:30 PM\nCost: $695 per person \n\nWAYS TO REGISTER: \n\nONLINE\nPHONE 815-468-7814\n\n\nCancellation Policy for Courses\nCancellation up to 2 weeks before the first day of class\, 85% refund. Within 2 weeks to 3 days of class\, a 50% refund. Within 72 hrs.\, no refund. At any time\, you may choose to reschedule and apply full funds to a future class.
URL:https://www.stakinguniversity.com/class/2-day-lcs-billings-mt-2019-05-15/
LOCATION:North Western Energy\, 1944 Monad Rd.\, Billings\, MT\, 59102\, United States
ATTACH;FMTTYPE=image/jpeg:https://www.stakinguniversity.com/wp-content/uploads/2018/11/Chevron-2.jpg
GEO:45.7616535;-108.5652224
X-APPLE-STRUCTURED-LOCATION;VALUE=URI;X-ADDRESS=North Western Energy 1944 Monad Rd. Billings MT 59102 United States;X-APPLE-RADIUS=500;X-TITLE=1944 Monad Rd.:geo:-108.5652224,45.7616535
END:VEVENT
BEGIN:VEVENT
DTSTART;TZID=America/Chicago:20190513T080000
DTEND;TZID=America/Chicago:20190517T160000
DTSTAMP:20260423T075218
CREATED:20190419T235006Z
LAST-MODIFIED:20190515T215148Z
UID:10000194-1557734400-1558108800@www.stakinguniversity.com
SUMMARY:5 Day Campus Class – Manteno\, IL
DESCRIPTION:Staking University Five Day Flagship Campus Training \nStaking University classes are taught at a live cityscape environment\, with both live and abandoned utilities. \nThe setting provides nearly 20 blocks of live utilities for hands-on locating in addition to specially-constructed training scenarios. \nStaking U’s week-long class is a combination of classroom and practical training outside. About 60-70% of class time is spent outdoors\, putting locating theory into practice. \n\nCLASS INFORMATION: \nMay 13th – 17th\, 2019 \nStaking University’s Flagship Campus\n411 S. Evergreen St.\nManteno\, IL 60950 \nMAP AND HOTEL INFO \n\nWAYS TO REGISTER: \n\nONLINE\nPHONE 815-468-7814\n\n\nCancellation Policy for Courses\nCancellation up to 2 weeks before the first day of class\, 85% refund. Within 2 weeks to 3 days of class\, a 50% refund. Within 72 hrs.\, no refund. At any time\, you may choose to reschedule and apply full funds to a future class.
URL:https://www.stakinguniversity.com/class/5-day-campus-class-manteno-il-2/
LOCATION:Staking University\, 411 S. Evergreen St.\, Manteno\, IL\, 60950\, United States
ATTACH;FMTTYPE=image/jpeg:https://www.stakinguniversity.com/wp-content/uploads/2014/03/5-day-03.jpg
GEO:41.230347;-87.807713
X-APPLE-STRUCTURED-LOCATION;VALUE=URI;X-ADDRESS=Staking University 411 S. Evergreen St. Manteno IL 60950 United States;X-APPLE-RADIUS=500;X-TITLE=411 S. Evergreen St.:geo:-87.807713,41.230347
END:VEVENT
BEGIN:VEVENT
DTSTART;TZID=America/Chicago:20190506T080000
DTEND;TZID=America/Chicago:20190507T160000
DTSTAMP:20260423T075218
CREATED:20190318T193406Z
LAST-MODIFIED:20190420T010145Z
UID:10000121-1557129600-1557244800@www.stakinguniversity.com
SUMMARY:2 Day LCS – Palo Alto\, CA
DESCRIPTION:Locator Certification Seminars \nStaking U’s Locator Certification Seminars (LCS) are designed to aid locators in developing: \n\nsuperior troubleshooting techniques\nskills to consistently provide accurate and complete utility location information\na mastery of locating equipment\nskills required to pass Staking U’s locator certification test\n\nThe Locator Certification Seminar includes classroom learning and outdoor presentations. An opportunity to take Staking U’s written certification test is available at the end of class. \nLCS Outline Class Syllabus \n\nHost Location:\nCity of Palo Alto\nMitchell Park Community Center\n3700 Middlefield Rd.\nPalo Alto\, CA\, US 94303 \nMay 6 – 7\, 2019 \nRegistration: 8:00 AM\nClass: 8:30 AM-4:00 PM\nCost: $695 per person \n\nWAYS TO REGISTER: \n\nONLINE\nPHONE 815-468-7814\n\n\nCancellation Policy for Courses\nCancellation up to 2 weeks before the first day of class\, 85% refund. Within 2 weeks to 3 days of class\, a 50% refund. Within 72 hrs.\, no refund. At any time\, you may choose to reschedule and apply full funds to a future class.
URL:https://www.stakinguniversity.com/class/2-day-lcs-palo-alto-ca-2019-05-06/
LOCATION:Mitchell Park Community Center\, 3700 Middlefield Rd.\, Palo Alto\, CA\, 94303\, United States
CATEGORIES:2 Day LCS
ATTACH;FMTTYPE=image/jpeg:https://www.stakinguniversity.com/wp-content/uploads/2017/01/5day04.jpg
GEO:37.4222836;-122.1127678
X-APPLE-STRUCTURED-LOCATION;VALUE=URI;X-ADDRESS=Mitchell Park Community Center 3700 Middlefield Rd. Palo Alto CA 94303 United States;X-APPLE-RADIUS=500;X-TITLE=3700 Middlefield Rd.:geo:-122.1127678,37.4222836
END:VEVENT
BEGIN:VEVENT
DTSTART;TZID=America/Chicago:20190429T080000
DTEND;TZID=America/Chicago:20190503T160000
DTSTAMP:20260423T075218
CREATED:20190419T235006Z
LAST-MODIFIED:20190422T130543Z
UID:10000193-1556524800-1556899200@www.stakinguniversity.com
SUMMARY:5 Day Campus Class – Manteno\, IL
DESCRIPTION:Staking University Five Day Flagship Campus Training \nStaking University classes are taught at a live cityscape environment\, with both live and abandoned utilities. \nThe setting provides nearly 20 blocks of live utilities for hands-on locating in addition to specially-constructed training scenarios. \nStaking U’s week-long class is a combination of classroom and practical training outside. About 60-70% of class time is spent outdoors\, putting locating theory into practice. \n\nCLASS INFORMATION: \nApril 29th – May 3rd\, 2019 \nStaking University’s Flagship Campus\n411 S. Evergreen St.\nManteno\, IL 60950 \nMAP AND HOTEL INFO \n\nWAYS TO REGISTER: \n\nONLINE\nPHONE 815-468-7814\n\n\nCancellation Policy for Courses\nCancellation up to 2 weeks before the first day of class\, 85% refund. Within 2 weeks to 3 days of class\, a 50% refund. Within 72 hrs.\, no refund. At any time\, you may choose to reschedule and apply full funds to a future class.
URL:https://www.stakinguniversity.com/class/5-day-campus-class-manteno-il/
LOCATION:Staking University\, 411 S. Evergreen St.\, Manteno\, IL\, 60950\, United States
CATEGORIES:5 Day Main Campus Classes
ATTACH;FMTTYPE=image/jpeg:https://www.stakinguniversity.com/wp-content/uploads/2016/12/manteno-locslide4fall.jpg
GEO:41.230347;-87.807713
X-APPLE-STRUCTURED-LOCATION;VALUE=URI;X-ADDRESS=Staking University 411 S. Evergreen St. Manteno IL 60950 United States;X-APPLE-RADIUS=500;X-TITLE=411 S. Evergreen St.:geo:-87.807713,41.230347
END:VEVENT
END:VCALENDAR